BEGIN:VCALENDAR
VERSION:2.0
PRODID:-//現代中東地域研究: AA研拠点 - ECPv5.2.1.1//NONSGML v1.0//EN
CALSCALE:GREGORIAN
METHOD:PUBLISH
X-WR-CALNAME:現代中東地域研究: AA研拠点
X-ORIGINAL-URL:https://meis.aa-ken.jp/?lang=en
X-WR-CALDESC:Events for 現代中東地域研究: AA研拠点
BEGIN:VTIMEZONE
TZID:Asia/Tokyo
BEGIN:STANDARD
TZOFFSETFROM:+0900
TZOFFSETTO:+0900
TZNAME:JST
DTSTART:20190101T000000
END:STANDARD
END:VTIMEZONE
BEGIN:VEVENT
DTSTART;TZID=Asia/Tokyo:20191102T130000
DTEND;TZID=Asia/Tokyo:20191102T180000
DTSTAMP:20260422T104228
CREATED:20191017T114343Z
LAST-MODIFIED:20191031T021253Z
UID:629-1572699600-1572717600@meis.aa-ken.jp
SUMMARY:Lecture “After the Refugee Crisis and Syrian conflict: What we can learn from German Experience about acceptance of Refugees”（11/2・The University of Tokyo）
DESCRIPTION:This post is also available in: \n    日本語 You are cordially invited to the workshop held by JSPS/ NIHU research group on Palestine/Israel studies. \n■Date \n\n2 November\, 2019\, Sat. 13:00～17:00 (venue is open at 12:30)\n\n■Venue \n\nGallery 1\, B1Floor\, Ito International Research Center\,\nthe University of Tokyo (Hongo Campus) \n\n*The closest station is “Hongo sanchome” on Marunouchi and Odeo Subway lines\n\n\n■Speakers\n◆Mohammed Jouni works as a staff at Berlin based NGO “BBZ” which supports immigrant and refugee youth. He was born in Saida (Sidon)\, Lebanon and later received German citizenship.\n◆Ayham Bakir moved from Syria to Germany during the refugee crisis. His asylum application was accepted and has received a refugee status in Germany. Ayham now joins the project activities at BBZ. \n■Language \n\nEnglish\, German\, and Arabic (with Japanese translation) \n\n■Registration for Participation \nThe seat is limited to 60 person. Please register from the following site\nhttps://kokucheese.com/event/index/581983/ \n■Organized by \n\nJSPS – Fund for the Promotion of Joint International Research (Fostering Joint International Research) “Interdisciplinary study of the migration and policy concerning Arab migrants-refugees in Germany” (Project number: 16KK0050)\nMiddle East and Islamic Studies (MEIS)\, Institute for Languages and Cultures of Asia and Africa (National Institutes for the Humanities) \nGlobal Leader Program for Social Design and Management (GSDM)\, the University of Tokyo
URL:https://meis.aa-ken.jp/?tribe_events=%E8%AC%9B%E6%BC%94%E4%BC%9A%E3%80%8C%E9%9B%A3%E6%B0%91%E5%8D%B1%E6%A9%9F%E3%81%A8%E3%82%B7%E3%83%AA%E3%82%A2%E7%B4%9B%E4%BA%89%E3%81%AE%E3%81%9D%E3%81%AE%E5%BE%8C%E2%80%95%E2%80%95%E3%83%89%E3%82%A4&lang=en
LOCATION:東京大学本郷キャンパス　伊藤国際学術研究センター　地下ギャラリー１\, 東京都文京区本郷7－3－1\, 文京区\, 東京都\, Japan
CATEGORIES:公開講演会
END:VEVENT
END:VCALENDAR