BEGIN:VCALENDAR
VERSION:2.0
PRODID:-//現代中東地域研究: AA研拠点 - ECPv5.2.1.1//NONSGML v1.0//EN
CALSCALE:GREGORIAN
METHOD:PUBLISH
X-WR-CALNAME:現代中東地域研究: AA研拠点
X-ORIGINAL-URL:https://meis.aa-ken.jp/?lang=en
X-WR-CALDESC:Events for 現代中東地域研究: AA研拠点
BEGIN:VTIMEZONE
TZID:Asia/Tokyo
BEGIN:STANDARD
TZOFFSETFROM:+0900
TZOFFSETTO:+0900
TZNAME:JST
DTSTART:20180101T000000
END:STANDARD
END:VTIMEZONE
BEGIN:VEVENT
DTSTART;TZID=Asia/Tokyo:20180720T090000
DTEND;TZID=Asia/Tokyo:20180720T110000
DTSTAMP:20260422T104221
CREATED:20180710T063318Z
LAST-MODIFIED:20180710T063318Z
UID:521-1532077200-1532084400@meis.aa-ken.jp
SUMMARY:Panel Session in WOCMES Seville 2018 (7/20)
DESCRIPTION:We will take part in the World Congress for Middle Eastern Studies (WOCMES) in Seville and organize the panel\, “Representations of Homeland in Middle Eastern Literature”. \nTime and Date: 9:00 a.m.-11:00 a.m.\, July 20th\, 2018\nVenue: Room 114\, University of Seville\nChair:\nSatoshi Udo (Kagoshima University)\nDiscussant:\nHiroki Okazaki (Chubu University)\nSpeakers:\nKazue Hosoda (ILCAA\, Tokyo University of Foreign Studies)\n ‘Imaginary Watan: Describing Watan by the Second Generation Writers’\nNaho Nakamura (Daito Bunka University)\n ‘Persian poetry in exile: Nader Naderpour’s “vatan” and “ghorbat”’\nKimie Maeda (University of Tokyo)\n ‘“Muslim children’s literature” and Fawzia Gilani-Williams’s works’\nKaoru Yamamoto (Tokyo University of Foreign Studies)\n ‘”I stayed in Haifa”: Emile Habiby’s concept of Watan’\nMari Oka (Kyoto University)\n ‘Deterritorializing homeland and deconstruc ng na onal iden ty- G. Kanafani\, E.Koury\, and J.Dost’
URL:https://meis.aa-ken.jp/?tribe_events=panel-session-in-wocmes-seville-2018-7-20&lang=en
LOCATION:University of Seville\, C/ San Fernando\, nº 4. C.P 41004.\, Seville\, Spain
CATEGORIES:international conference
END:VEVENT
END:VCALENDAR