BEGIN:VCALENDAR
VERSION:2.0
PRODID:-//現代中東地域研究: AA研拠点 - ECPv5.2.1.1//NONSGML v1.0//EN
CALSCALE:GREGORIAN
METHOD:PUBLISH
X-WR-CALNAME:現代中東地域研究: AA研拠点
X-ORIGINAL-URL:https://meis.aa-ken.jp
X-WR-CALDESC:現代中東地域研究: AA研拠点 のイベント
BEGIN:VTIMEZONE
TZID:Asia/Tokyo
BEGIN:STANDARD
TZOFFSETFROM:+0900
TZOFFSETTO:+0900
TZNAME:JST
DTSTART:20190101T000000
END:STANDARD
END:VTIMEZONE
BEGIN:VEVENT
DTSTART;TZID=Asia/Tokyo:20191117T140000
DTEND;TZID=Asia/Tokyo:20191117T180000
DTSTAMP:20260422T123954
CREATED:20191106T090820Z
LAST-MODIFIED:20191106T090820Z
UID:641-1573999200-1574013600@meis.aa-ken.jp
SUMMARY:「現代ムスリム知識人の地域横断ネットワークに関する研究」2019年度第3回研究会（11/17・本郷サテライト）
DESCRIPTION:現代中東地域研究推進事業（民博拠点・AA研拠点）が主催する若手研究公募事業「現代ムスリム知識人の地域横断ネットワークに関する研究」の2019年度第3回研究会を11月17日、東京外国語大学本郷サテライトにて開催いたします。 \n■日時 \n\n2019年11月17日（土）14:00～17:45（13時半開場、13時半までは非公開の打ち合わせ））\n\n■会場 \n\n東京外国語大学本郷サテライト3階セミナールーム\n最寄駅：東京メトロ丸ノ内線／都営大江戸線（4番出口）　本郷三丁目駅、JR中央／総武線　御茶ノ水駅\n\n\n◆報告1：「リビアにおけるウラマー知識人とイスラーム教育機関：カッザーフィー政権下での役割」\n報告者: 小林周\n\n日本エネルギー経済研究所　研究員\n\n◆報告2：「湾岸とマグリブを繋ぐモーリタニア知識人ネットワーク――「周縁」に脈々と生きるアラビア語伝統」\n報告者: 竹田　敏之\n\n京都大学アジア・アフリカ地域研究研究科　特任准教授\n\n\n主催 \n\n東京外国語大学アジア・アフリカ言語文化研究所　中東イスラーム研究拠点（人間文化研究機構「現代中東地域研究」事業）\n国立民族学博物館　中東地域研究拠点（人間文化研究機構「現代中東地域研究」事業）
URL:https://meis.aa-ken.jp/?tribe_events=%E3%80%8C%E7%8F%BE%E4%BB%A3%E3%83%A0%E3%82%B9%E3%83%AA%E3%83%A0%E7%9F%A5%E8%AD%98%E4%BA%BA%E3%81%AE%E5%9C%B0%E5%9F%9F%E6%A8%AA%E6%96%AD%E3%83%8D%E3%83%83%E3%83%88%E3%83%AF%E3%83%BC%E3%82%AF%E3%81%AB-7
LOCATION:東京外国語大学本郷サテライト3Fセミナー室\, 東京都文京区本郷2-14-10\, 文京区\, 東京都\, 113-0033\, Japan
CATEGORIES:研究会
ORGANIZER;CN="%E6%9D%B1%E4%BA%AC%E5%A4%96%E5%9B%BD%E8%AA%9E%E5%A4%A7%E5%AD%A6%E3%82%A2%E3%82%B8%E3%82%A2%E3%83%BB%E3%82%A2%E3%83%95%E3%83%AA%E3%82%AB%E8%A8%80%E8%AA%9E%E6%96%87%E5%8C%96%E7%A0%94%E7%A9%B6%E6%89%80%E3%80%80%E4%B8%AD%E6%9D%B1%E3%82%A4%E3%82%B9%E3%83%A9%E3%83%BC%E3%83%A0%E7%A0%94%E7%A9%B6%E6%8B%A0%E7%82%B9%20%EF%BC%88%E4%BA%BA%E9%96%93%E6%96%87%E5%8C%96%E7%A0%94%E7%A9%B6%E6%A9%9F%E6%A7%8B%E3%80%8C%E7%8F%BE%E4%BB%A3%E4%B8%AD%E6%9D%B1%E5%9C%B0%E5%9F%9F%E7%A0%94%E7%A9%B6%E3%80%8D%E4%BA%8B%E6%A5%AD":MAILTO:aa_nihu_kyoten@tufs.ac.jp
END:VEVENT
END:VCALENDAR