BEGIN:VCALENDAR
VERSION:2.0
PRODID:-//現代中東地域研究: AA研拠点 - ECPv5.2.1.1//NONSGML v1.0//EN
CALSCALE:GREGORIAN
METHOD:PUBLISH
X-WR-CALNAME:現代中東地域研究: AA研拠点
X-ORIGINAL-URL:https://meis.aa-ken.jp
X-WR-CALDESC:現代中東地域研究: AA研拠点 のイベント
BEGIN:VTIMEZONE
TZID:Asia/Tokyo
BEGIN:STANDARD
TZOFFSETFROM:+0900
TZOFFSETTO:+0900
TZNAME:JST
DTSTART:20190101T000000
END:STANDARD
END:VTIMEZONE
BEGIN:VEVENT
DTSTART;TZID=Asia/Tokyo:20190219T100000
DTEND;TZID=Asia/Tokyo:20190219T160000
DTSTAMP:20260422T211451
CREATED:20190110T051354Z
LAST-MODIFIED:20190110T051354Z
UID:561-1550570400-1550592000@meis.aa-ken.jp
SUMMARY:国際シンポジウム“Islam with Adjectives and Islami as Adjectives”（2/19・AA研）
DESCRIPTION:この度人間文化研究機構基幹研究プロジェクト現代中東地域研究・東京外国語大学アジア・アフリカ言語文化研究所拠点と新学術領域研究「グローバル関係学」A01「国家と制度：固定化された関係性」は共催で、国際ワークショップ“Islam with Adjectives and Islami as Adjectives: Reflecting on the Implications for the Iranian Society of Not Just Diverse But Divergent Readings of Islam in Contemporary Iran”を開催いたします。皆様のご参加をお待ちしております。 \n■日時 \n\n2019年2月19日（火）10:00～16:00\n\n■会場 \n\n東京外国語大学　アジア・アフリカ言語文化研究所3階大会議室\n\n“Political Islam and Islamic Politics: An Iranian Perspective”\nAli Akbar Alikhani\nFaculty of World Studies\, University of Tehran \n “Reading Asad in Tehran (and Tokyo):\nWhat Does The Formations of the Secular Offer to the Iranian Predicament”\nYasuyuki Matsunaga\nMiddle East and Islamic Studies Project\nInstitute of Global Studies\, Tokyo University of Foreign Studies \n(lunch break) \nComments by Discussants: \nAli Golmohammadi\nFaculty of World Studies\, University of Tehran \nKenji Kuroda\nMiddle East and Islamic Studies Project\nCenter for Modern Middle East Studies\, National Museum of Ethnology \nGeneral Discussions \nSession Chair: \nDr. Nobuaki Kondo\nMiddle East and Islamic Studies Project\nInstitute for Languages and Cultures of Asia and Africa\, Tokyo University of Foreign Studies
URL:https://meis.aa-ken.jp/?tribe_events=%E5%9B%BD%E9%9A%9B%E3%82%B7%E3%83%B3%E3%83%9D%E3%82%B8%E3%82%A6%E3%83%A0islam-with-adjectives-and-islami-as-adjectives%EF%BC%882-19%E3%83%BBaa%E7%A0%94%EF%BC%89
LOCATION:東京外国語大学アジア・アフリカ言語文化研究所大会議室(303)\, 朝日町3-11-1\, 府中市\, 東京\, 183-8534\, Japan
CATEGORIES:国際ワークショップ
ORGANIZER;CN="%E6%9D%B1%E4%BA%AC%E5%A4%96%E5%9B%BD%E8%AA%9E%E5%A4%A7%E5%AD%A6%E3%82%A2%E3%82%B8%E3%82%A2%E3%83%BB%E3%82%A2%E3%83%95%E3%83%AA%E3%82%AB%E8%A8%80%E8%AA%9E%E6%96%87%E5%8C%96%E7%A0%94%E7%A9%B6%E6%89%80%E3%80%80%E4%B8%AD%E6%9D%B1%E3%82%A4%E3%82%B9%E3%83%A9%E3%83%BC%E3%83%A0%E7%A0%94%E7%A9%B6%E6%8B%A0%E7%82%B9%20%EF%BC%88%E4%BA%BA%E9%96%93%E6%96%87%E5%8C%96%E7%A0%94%E7%A9%B6%E6%A9%9F%E6%A7%8B%E3%80%8C%E7%8F%BE%E4%BB%A3%E4%B8%AD%E6%9D%B1%E5%9C%B0%E5%9F%9F%E7%A0%94%E7%A9%B6%E3%80%8D%E4%BA%8B%E6%A5%AD":MAILTO:aa_nihu_kyoten@tufs.ac.jp
END:VEVENT
END:VCALENDAR