BEGIN:VCALENDAR
VERSION:2.0
PRODID:-//現代中東地域研究: AA研拠点 - ECPv5.2.1.1//NONSGML v1.0//EN
CALSCALE:GREGORIAN
METHOD:PUBLISH
X-WR-CALNAME:現代中東地域研究: AA研拠点
X-ORIGINAL-URL:https://meis.aa-ken.jp
X-WR-CALDESC:現代中東地域研究: AA研拠点 のイベント
BEGIN:VTIMEZONE
TZID:Asia/Tokyo
BEGIN:STANDARD
TZOFFSETFROM:+0900
TZOFFSETTO:+0900
TZNAME:JST
DTSTART:20170101T000000
END:STANDARD
END:VTIMEZONE
BEGIN:VEVENT
DTSTART;TZID=Asia/Tokyo:20170330T140000
DTEND;TZID=Asia/Tokyo:20170330T170000
DTSTAMP:20260426T082654
CREATED:20170305T181558Z
LAST-MODIFIED:20170306T062617Z
UID:201-1490882400-1490893200@meis.aa-ken.jp
SUMMARY:映像ワークショップ「Messages from Paradise」
DESCRIPTION:　この度現代中東地域研究AA研拠点と民博拠点は、ダニエラ・スワロウスキー監督と気鋭の人類学者としても知られるサミュリ・シルケ研究員を招いた映像ワークショップ「Messages from Paradise」を2017年3月30日に東京外国語大学AA研大会議室（303）で開催します。\n　「Messages from Paradise」は、中東とヨーロッパ諸国の間の移住をテーマとし、スワロウスキー監督の発案のもとでサミュリ・シルケ研究員とともに作成されている3部作品です。\n　今回の映像ワークショップでは、第1作目と第2作目を上映しながら、現代中東における人の移動について検討します。\n　詳細については、下記の英文の案内をご覧ください。\n　どなたでもご参加いただけますが、会場に限りがございますので事前に黒田（下記メールアドレス）までご連絡いただければ幸いです。 \n映像ワークショップ「Messages from Paradise」\n日時\n　2017/3/30（木） 14:00-17:00\n会場\n　AA研大会議室（303）\n　(〒183-8534 東京都府中市朝日町3-11-1)\n言語\n　英語（English）、通訳なし\n参加費\n　無料\n事前申し込み\n　要（下記よりお申込みください）\n 　　Kenji KURODA (kenjikuroda[at]idc.minpaku.ac.jp）←[at]を＠に置き換えてください。\nプログラム\n　1) 14:00-14:05 Kenji KURODA (National Museum of Ethnology)\n　　　Opening Remarks\n　2) 14:05-14:15 Daniela Swarowsky (Filmmaker) & Samuli Schielke 　　\n　　　(Leibniz-Zentrum Moderner Orient)\n　　　Introduction of film and concept of Messages from Paradise Series\n　3) 14:15-15:00 “Messages from Paradise#1”\, Egypt: Austria (44mins)\n　4) 15:10-16:05 “Messages from Paradise#2”\, Morocco: The Netherlands （53mins）\n　5) 16:15-17:00 All participants\n　　　Comment and Discussion\n　　　Commentator: Hidemitsu KUROKI (ILCAA)\, Aiko NISHIKIDA (ILCAA)\n　6) 17:00 Nobuaki KONDO （ILCAA）\n　　　Closing Remarks
URL:https://meis.aa-ken.jp/?tribe_events=%E6%98%A0%E5%83%8F%E3%83%AF%E3%83%BC%E3%82%AF%E3%82%B7%E3%83%A7%E3%83%83%E3%83%97%E3%80%8Cmessages-from-paradise%E3%80%8D
LOCATION:東京外国語大学アジア・アフリカ言語文化研究所大会議室(303)\, 朝日町3-11-1\, 府中市\, 東京\, 183-8534\, Japan
CATEGORIES:国際ワークショップ
ORGANIZER;CN="%E6%9D%B1%E4%BA%AC%E5%A4%96%E5%9B%BD%E8%AA%9E%E5%A4%A7%E5%AD%A6%E3%82%A2%E3%82%B8%E3%82%A2%E3%83%BB%E3%82%A2%E3%83%95%E3%83%AA%E3%82%AB%E8%A8%80%E8%AA%9E%E6%96%87%E5%8C%96%E7%A0%94%E7%A9%B6%E6%89%80%E3%80%80%E4%B8%AD%E6%9D%B1%E3%82%A4%E3%82%B9%E3%83%A9%E3%83%BC%E3%83%A0%E7%A0%94%E7%A9%B6%E6%8B%A0%E7%82%B9%20%EF%BC%88%E4%BA%BA%E9%96%93%E6%96%87%E5%8C%96%E7%A0%94%E7%A9%B6%E6%A9%9F%E6%A7%8B%E3%80%8C%E7%8F%BE%E4%BB%A3%E4%B8%AD%E6%9D%B1%E5%9C%B0%E5%9F%9F%E7%A0%94%E7%A9%B6%E3%80%8D%E4%BA%8B%E6%A5%AD":MAILTO:aa_nihu_kyoten@tufs.ac.jp
END:VEVENT
END:VCALENDAR