BEGIN:VCALENDAR
VERSION:2.0
PRODID:-//現代中東地域研究: AA研拠点 - ECPv5.2.1.1//NONSGML v1.0//EN
CALSCALE:GREGORIAN
METHOD:PUBLISH
X-WR-CALNAME:現代中東地域研究: AA研拠点
X-ORIGINAL-URL:https://meis.aa-ken.jp
X-WR-CALDESC:現代中東地域研究: AA研拠点 のイベント
BEGIN:VTIMEZONE
TZID:Asia/Tokyo
BEGIN:STANDARD
TZOFFSETFROM:+0900
TZOFFSETTO:+0900
TZNAME:JST
DTSTART:20190101T000000
END:STANDARD
END:VTIMEZONE
BEGIN:VEVENT
DTSTART;TZID=Asia/Tokyo:20191102T130000
DTEND;TZID=Asia/Tokyo:20191102T180000
DTSTAMP:20260422T105500
CREATED:20191017T114343Z
LAST-MODIFIED:20191031T021149Z
UID:622-1572699600-1572717600@meis.aa-ken.jp
SUMMARY:講演会「難民危機とシリア紛争のその後――ドイツの経験から学ぶ難民受け入れ」（11/2・東京大学本郷キャンパス）
DESCRIPTION:This post is also available in: \n    English NIHU「現代中東地域研究」AA研拠点では、東京大学GSDMプログラムとの共催で、ドイツから移民／難民支援NGOのスタッフおよび、難民危機以降にシリアからドイツに逃れた難民の青年をお招きし、講演会を開催します。\n多くの皆さまのご来場をお待ちしております。 \n■日時 \n\n2019年11月2日（土）13:00～17:00（開場12:30）\n\n■会場 \n\n東京大学本郷キャンパス伊藤国際学術研究センター地下ギャラリー１\n\n最寄駅：地下鉄丸の内線・地下鉄大江戸線「本郷三丁目駅」など\n\n\n■講演者\n◆ムハンマド・ジュニ氏（34歳、男性）\n移民／難民の青少年を支援するNGO「BBZ」でスタッフとして働く。本人もレバノン（サイダ市）から移住し、後にドイツ国籍を取得。\n◆アイハム・バキール氏（21歳、男性）\n欧州難民危機でドイツに来たシリア人、ドイツで庇護申請をして難民認定を受ける。BBZの支援プログラムに参加。 \n■言語 \n\n英語、アラビア語、ドイツ語（日本語への逐次通訳）\n\n■登録 \nご参加希望者は、以下のサイトから参加の申し込みをお願いいたします。（先着順、定員60名）\nhttps://kokucheese.com/event/index/581983/ \n■主催 \n\n科研費・国際共同研究加速基金「ドイツのアラブ系移民／難民の移動と受け入れに関する学際的研究」（研究代表者：錦田愛子）課題番号16KK0050\n東京外国語大学アジア・アフリカ言語文化研究所　中東イスラーム研究拠点（人間文化研究機構「現代中東地域研究」事業）\n東京大学博士課程教育リーディングプログラム「社会構想マネジメントを先導するグローバルリーダー養成プログラム」(GSDM)\n\nposter_syria表\nposter_syria裏
URL:https://meis.aa-ken.jp/?tribe_events=%E8%AC%9B%E6%BC%94%E4%BC%9A%E3%80%8C%E9%9B%A3%E6%B0%91%E5%8D%B1%E6%A9%9F%E3%81%A8%E3%82%B7%E3%83%AA%E3%82%A2%E7%B4%9B%E4%BA%89%E3%81%AE%E3%81%9D%E3%81%AE%E5%BE%8C%E2%80%95%E2%80%95%E3%83%89%E3%82%A4
LOCATION:東京大学本郷キャンパス　伊藤国際学術研究センター　地下ギャラリー１\, 東京都文京区本郷7－3－1\, 文京区\, 東京都\, Japan
CATEGORIES:公開講演会
END:VEVENT
END:VCALENDAR