BEGIN:VCALENDAR
VERSION:2.0
PRODID:-//現代中東地域研究: AA研拠点 - ECPv5.2.1.1//NONSGML v1.0//EN
CALSCALE:GREGORIAN
METHOD:PUBLISH
X-WR-CALNAME:現代中東地域研究: AA研拠点
X-ORIGINAL-URL:https://meis.aa-ken.jp
X-WR-CALDESC:現代中東地域研究: AA研拠点 のイベント
BEGIN:VTIMEZONE
TZID:Asia/Tokyo
BEGIN:STANDARD
TZOFFSETFROM:+0900
TZOFFSETTO:+0900
TZNAME:JST
DTSTART:20180101T000000
END:STANDARD
END:VTIMEZONE
BEGIN:VEVENT
DTSTART;TZID=Asia/Tokyo:20180311T140000
DTEND;TZID=Asia/Tokyo:20180311T190000
DTSTAMP:20260422T123033
CREATED:20180118T072601Z
LAST-MODIFIED:20180315T045823Z
UID:379-1520776800-1520794800@meis.aa-ken.jp
SUMMARY:2017年度第7回 パレスチナ／イスラエル研究会
DESCRIPTION:This post is also available in: \n    English 2017年度第7回パレスチナ／イスラエル研究会を3月11日、東京外国語大学アジア・アフリカ言語文化研究所で開催します。\n年度末のご多忙な時期とは存じますが、ご関心のある皆さまのご来場をお待ちいたしております。 \n■日時 \n\n2018年3月11日（日）14:00～19:00\n\n■会場 \n\n東京外国語大学　アジア・アフリカ言語文化研究所3階マルチ・メディアセミナー室（306）\n最寄駅：西武多摩川線　多磨駅\nJR中央線「武蔵境駅」のりかえ，西武多摩川線「多磨駅」下車，徒歩5分\n改札を出たら左折，線路下の地下通路を通り抜けると前方に大学が見えます\n※いつもと会場が異なりますので、ご注意下さい。\n当日は日曜日ですので、建物入口右側の階段から入館願います。\n\n\n◆報告1：「アメリカ・シオニスト運動とパレスチナ－１９４２年ビルトモア会議からイスラエル建国まで」\n報告者: 池田有日子\n\n九州大学法学部　非常勤講師\n\n◆報告2：「冷戦の力学とパレスチナ問題－ヨーロッパ現代史の視点から」\n報告者: 武井彩佳\n\n学習院女子大学国際文化交流学部准教授\n\n※会場準備の関係で、この度はご出席にあたり事前に運営事務局（info_palestine_israel@tufs.ac.jp）までご連絡頂ければ助かります。\n※研究会のメンバーで非関東圏からご出席頂き、旅費の支給をご希望される方は、1月25日までに運営事務局（同上）までご連絡ください。\n\n主催 \n\n東京外国語大学アジア・アフリカ言語文化研究所　中東イスラーム研究拠点（人間文化研究機構「現代中東地域研究」事業）
URL:https://meis.aa-ken.jp/?tribe_events=2017%E5%B9%B4%E5%BA%A6%E7%AC%AC7%E5%9B%9E-%E3%83%91%E3%83%AC%E3%82%B9%E3%83%81%E3%83%8A%EF%BC%8F%E3%82%A4%E3%82%B9%E3%83%A9%E3%82%A8%E3%83%AB%E7%A0%94%E7%A9%B6%E4%BC%9A
LOCATION:東京外国語大学アジア・アフリカ言語文化研究所マルチメディア会議室（306）\, 東京都府中市朝日町3-11-1\, 府中市\, 東京都\, 1830003\, Japan
CATEGORIES:研究会
ORGANIZER;CN="%E6%9D%B1%E4%BA%AC%E5%A4%96%E5%9B%BD%E8%AA%9E%E5%A4%A7%E5%AD%A6%E3%82%A2%E3%82%B8%E3%82%A2%E3%83%BB%E3%82%A2%E3%83%95%E3%83%AA%E3%82%AB%E8%A8%80%E8%AA%9E%E6%96%87%E5%8C%96%E7%A0%94%E7%A9%B6%E6%89%80%E3%80%80%E4%B8%AD%E6%9D%B1%E3%82%A4%E3%82%B9%E3%83%A9%E3%83%BC%E3%83%A0%E7%A0%94%E7%A9%B6%E6%8B%A0%E7%82%B9%20%EF%BC%88%E4%BA%BA%E9%96%93%E6%96%87%E5%8C%96%E7%A0%94%E7%A9%B6%E6%A9%9F%E6%A7%8B%E3%80%8C%E7%8F%BE%E4%BB%A3%E4%B8%AD%E6%9D%B1%E5%9C%B0%E5%9F%9F%E7%A0%94%E7%A9%B6%E3%80%8D%E4%BA%8B%E6%A5%AD":MAILTO:aa_nihu_kyoten@tufs.ac.jp
END:VEVENT
END:VCALENDAR