BEGIN:VCALENDAR
VERSION:2.0
PRODID:-//現代中東地域研究: AA研拠点 - ECPv5.2.1.1//NONSGML v1.0//EN
CALSCALE:GREGORIAN
METHOD:PUBLISH
X-WR-CALNAME:現代中東地域研究: AA研拠点
X-ORIGINAL-URL:https://meis.aa-ken.jp
X-WR-CALDESC:現代中東地域研究: AA研拠点 のイベント
BEGIN:VTIMEZONE
TZID:Asia/Tokyo
BEGIN:STANDARD
TZOFFSETFROM:+0900
TZOFFSETTO:+0900
TZNAME:JST
DTSTART:20190101T000000
END:STANDARD
END:VTIMEZONE
BEGIN:VEVENT
DTSTART;TZID=Asia/Tokyo:20190928T140000
DTEND;TZID=Asia/Tokyo:20190928T190000
DTSTAMP:20260422T122722
CREATED:20190914T063524Z
LAST-MODIFIED:20190914T063611Z
UID:616-1569679200-1569697200@meis.aa-ken.jp
SUMMARY:2019年度第3回 パレスチナ／イスラエル研究会（9/28・本郷サテライト）
DESCRIPTION:NIHU「現代中東地域研究」AA研拠点パレスチナ／イスラエル研究会では、下記の通り定例研究会を開催することになりました。ご関心のある皆さまのご来場をお待ちいたしております。\n■日時 \n\n2019年9月28日（土）14:00～17:30（開場13:30／終了後19:00まで打ち合わせ）\n\n■会場 \n\n東京外国語大学本郷サテライト4階セミナールーム\n最寄駅：東京メトロ丸ノ内線／都営大江戸線（4番出口）　本郷三丁目駅、JR中央／総武線　御茶ノ水駅\n\n\n◆報告1：「イスラエルおよびパレスチナ長期海外調査報告」(仮題)\n報告者: 飛田麻也香\n\n広島大学大学院国際協力研究科 博士後期課程\n\n◆報告2：「東エルサレムの現状と課題：せめぎ合う境界と人々の諸相」(仮題)\n報告者: 鈴木啓之\n\n日本学術振興会　海外特別研究員\n\n※研究会のメンバーで非関東圏からご出席頂き、旅費の支給をご希望される方は、9月19日までに運営事務局（同上）までご連絡ください。\n\n主催 \n\n東京外国語大学アジア・アフリカ言語文化研究所　中東イスラーム研究拠点（人間文化研究機構「現代中東地域研究」事業）
URL:https://meis.aa-ken.jp/?tribe_events=2019%E5%B9%B4%E5%BA%A6%E7%AC%AC3%E5%9B%9E-%E3%83%91%E3%83%AC%E3%82%B9%E3%83%81%E3%83%8A%EF%BC%8F%E3%82%A4%E3%82%B9%E3%83%A9%E3%82%A8%E3%83%AB%E7%A0%94%E7%A9%B6%E4%BC%9A
LOCATION:東京外国語本郷サテライト4Fセミナー室\, 東京都文京区本郷２丁目１４−１０\, 文京区\, 東京都\, 113-0033\, Japan
CATEGORIES:研究会
ORGANIZER;CN="%E6%9D%B1%E4%BA%AC%E5%A4%96%E5%9B%BD%E8%AA%9E%E5%A4%A7%E5%AD%A6%E3%82%A2%E3%82%B8%E3%82%A2%E3%83%BB%E3%82%A2%E3%83%95%E3%83%AA%E3%82%AB%E8%A8%80%E8%AA%9E%E6%96%87%E5%8C%96%E7%A0%94%E7%A9%B6%E6%89%80%E3%80%80%E4%B8%AD%E6%9D%B1%E3%82%A4%E3%82%B9%E3%83%A9%E3%83%BC%E3%83%A0%E7%A0%94%E7%A9%B6%E6%8B%A0%E7%82%B9%20%EF%BC%88%E4%BA%BA%E9%96%93%E6%96%87%E5%8C%96%E7%A0%94%E7%A9%B6%E6%A9%9F%E6%A7%8B%E3%80%8C%E7%8F%BE%E4%BB%A3%E4%B8%AD%E6%9D%B1%E5%9C%B0%E5%9F%9F%E7%A0%94%E7%A9%B6%E3%80%8D%E4%BA%8B%E6%A5%AD":MAILTO:aa_nihu_kyoten@tufs.ac.jp
END:VEVENT
END:VCALENDAR