BEGIN:VCALENDAR
VERSION:2.0
PRODID:-//現代中東地域研究: AA研拠点 - ECPv5.2.1.1//NONSGML v1.0//EN
CALSCALE:GREGORIAN
METHOD:PUBLISH
X-WR-CALNAME:現代中東地域研究: AA研拠点
X-ORIGINAL-URL:https://meis.aa-ken.jp
X-WR-CALDESC:現代中東地域研究: AA研拠点 のイベント
BEGIN:VTIMEZONE
TZID:Asia/Tokyo
BEGIN:STANDARD
TZOFFSETFROM:+0900
TZOFFSETTO:+0900
TZNAME:JST
DTSTART:20200101T000000
END:STANDARD
END:VTIMEZONE
BEGIN:VEVENT
DTSTART;TZID=Asia/Tokyo:20200113T130000
DTEND;TZID=Asia/Tokyo:20200113T180000
DTSTAMP:20260422T170127
CREATED:20200108T091107Z
LAST-MODIFIED:20200108T091107Z
UID:668-1578920400-1578938400@meis.aa-ken.jp
SUMMARY:2019年度第5回 パレスチナ／イスラエル研究会（1/13・本郷サテライト）
DESCRIPTION:NIHU「現代中東地域研究」AA研拠点パレスチナ／イスラエル研究会では、下記の通り定例研究会を開催することになりました。ご関心のある皆さまのご来場をお待ちいたしております。\n■日時 \n\n2020年1月13日（月・祝）13:00～18:00（開場12:30／終了後19:00まで打ち合わせ）\n\n■会場 \n\n東京外国語大学本郷サテライト3階セミナールーム\n最寄駅：東京メトロ丸ノ内線／都営大江戸線（4番出口）　本郷三丁目駅、JR中央／総武線　御茶ノ水駅\n\n\n◆報告1：「宗教的シオニズムの組織化に関する歴史的考察――カリッシャー著『シオンを求めて』刊行（1862年）からミズラヒ結成（1902年）まで」(仮題)\n報告者: 今野泰三\n\n中京大学国際教養学部准教授\n\n◆報告2：「第一次大戦期英国におけるユダヤ教徒の状態 -バルフォア宣言を再検討する観点から-」(仮題)\n報告者: 武田祥英\n\n共立女子大学非常勤講師\n\n\n主催 \n\n東京外国語大学アジア・アフリカ言語文化研究所　中東イスラーム研究拠点（人間文化研究機構「現代中東地域研究」事業）
URL:https://meis.aa-ken.jp/?tribe_events=2019%E5%B9%B4%E5%BA%A6%E7%AC%AC5%E5%9B%9E-%E3%83%91%E3%83%AC%E3%82%B9%E3%83%81%E3%83%8A%EF%BC%8F%E3%82%A4%E3%82%B9%E3%83%A9%E3%82%A8%E3%83%AB%E7%A0%94%E7%A9%B6%E4%BC%9A%EF%BC%881-13%E3%83%BB%E6%9C%AC
LOCATION:東京外国語大学本郷サテライト3Fセミナー室\, 東京都文京区本郷2-14-10\, 文京区\, 東京都\, 113-0033\, Japan
CATEGORIES:研究会
END:VEVENT
END:VCALENDAR