BEGIN:VCALENDAR
VERSION:2.0
PRODID:-//現代中東地域研究: AA研拠点 - ECPv5.2.1.1//NONSGML v1.0//EN
CALSCALE:GREGORIAN
METHOD:PUBLISH
X-WR-CALNAME:現代中東地域研究: AA研拠点
X-ORIGINAL-URL:https://meis.aa-ken.jp
X-WR-CALDESC:現代中東地域研究: AA研拠点 のイベント
BEGIN:VTIMEZONE
TZID:Asia/Tokyo
BEGIN:STANDARD
TZOFFSETFROM:+0900
TZOFFSETTO:+0900
TZNAME:JST
DTSTART:20200101T000000
END:STANDARD
END:VTIMEZONE
BEGIN:VEVENT
DTSTART;TZID=Asia/Tokyo:20200823T140000
DTEND;TZID=Asia/Tokyo:20200823T160000
DTSTAMP:20260422T230017
CREATED:20200816T060648Z
LAST-MODIFIED:20200818T023324Z
UID:750-1598191200-1598198400@meis.aa-ken.jp
SUMMARY:2020年度第1回 パレスチナ／イスラエル研究会（8/23・オンライン）
DESCRIPTION:NIHU「現代中東地域研究」AA研拠点パレスチナ／イスラエル研究会では、下記の通り定例研究会をオンラインで開催することになりました。ご関心のある皆さまのご参加をお待ちいたしております。\n■日時 \n\n2020年8月23日（日）14:00～16:00\n\n■会場 \n\nオンライン（zoom利用）\nリンク先のフォームから必ず事前に参加登録をお願いいたします（8月21日23:59までの登録を強く推奨）\n　　　　　 \n＊リンクがうまく表示できない場合は（info_palestine_israel@tufs.ac.jp）にて登録を受け付けます\n\n\n◆報告：「Collective Punishment を通じた現在のパレスチナ占領政策制度の一考察」(仮題)\n報告者: 島本奈央\n\n大阪大学大学院国際公共政策研究科・博士後期課程／日本学術振興会特別研究員DC2\n\n問い合わせ \n\n今回の会合について：c-hsuzuki87@g.ecc.u-tokyo.ac.jp（鈴木啓之）\n研究会全体について：info_palestine_israel@tufs.ac.jp\n\n主催 \n\n東京外国語大学アジア・アフリカ言語文化研究所　中東イスラーム研究拠点（人間文化研究機構「現代中東地域研究」事業）
URL:https://meis.aa-ken.jp/?tribe_events=2020%E5%B9%B4%E5%BA%A6%E7%AC%AC1%E5%9B%9E-%E3%83%91%E3%83%AC%E3%82%B9%E3%83%81%E3%83%8A%EF%BC%8F%E3%82%A4%E3%82%B9%E3%83%A9%E3%82%A8%E3%83%AB%E7%A0%94%E7%A9%B6%E4%BC%9A%EF%BC%888-23%E3%83%BB%E3%82%AA
LOCATION:オンライン\, 東京\, 東京都\, Japan
CATEGORIES:研究会
ORGANIZER;CN="%E6%9D%B1%E4%BA%AC%E5%A4%96%E5%9B%BD%E8%AA%9E%E5%A4%A7%E5%AD%A6%E3%82%A2%E3%82%B8%E3%82%A2%E3%83%BB%E3%82%A2%E3%83%95%E3%83%AA%E3%82%AB%E8%A8%80%E8%AA%9E%E6%96%87%E5%8C%96%E7%A0%94%E7%A9%B6%E6%89%80%E3%80%80%E4%B8%AD%E6%9D%B1%E3%82%A4%E3%82%B9%E3%83%A9%E3%83%BC%E3%83%A0%E7%A0%94%E7%A9%B6%E6%8B%A0%E7%82%B9%20%EF%BC%88%E4%BA%BA%E9%96%93%E6%96%87%E5%8C%96%E7%A0%94%E7%A9%B6%E6%A9%9F%E6%A7%8B%E3%80%8C%E7%8F%BE%E4%BB%A3%E4%B8%AD%E6%9D%B1%E5%9C%B0%E5%9F%9F%E7%A0%94%E7%A9%B6%E3%80%8D%E4%BA%8B%E6%A5%AD":MAILTO:aa_nihu_kyoten@tufs.ac.jp
END:VEVENT
END:VCALENDAR